BEGIN:VCALENDAR
VERSION:2.0
PRODID:-//CubCrafters - ECPv6.15.12.2//NONSGML v1.0//EN
CALSCALE:GREGORIAN
METHOD:PUBLISH
X-WR-CALNAME:CubCrafters
X-ORIGINAL-URL:https://cubcrafters.com/c
X-WR-CALDESC:Events for CubCrafters
REFRESH-INTERVAL;VALUE=DURATION:PT1H
X-Robots-Tag:noindex
X-PUBLISHED-TTL:PT1H
BEGIN:VTIMEZONE
TZID:America/Los_Angeles
BEGIN:DAYLIGHT
TZOFFSETFROM:-0800
TZOFFSETTO:-0700
TZNAME:PDT
DTSTART:20210314T100000
END:DAYLIGHT
BEGIN:STANDARD
TZOFFSETFROM:-0700
TZOFFSETTO:-0800
TZNAME:PST
DTSTART:20211107T090000
END:STANDARD
BEGIN:DAYLIGHT
TZOFFSETFROM:-0800
TZOFFSETTO:-0700
TZNAME:PDT
DTSTART:20220313T100000
END:DAYLIGHT
BEGIN:STANDARD
TZOFFSETFROM:-0700
TZOFFSETTO:-0800
TZNAME:PST
DTSTART:20221106T090000
END:STANDARD
BEGIN:DAYLIGHT
TZOFFSETFROM:-0800
TZOFFSETTO:-0700
TZNAME:PDT
DTSTART:20230312T100000
END:DAYLIGHT
BEGIN:STANDARD
TZOFFSETFROM:-0700
TZOFFSETTO:-0800
TZNAME:PST
DTSTART:20231105T090000
END:STANDARD
END:VTIMEZONE
BEGIN:VEVENT
DTSTART;VALUE=DATE:20220909
DTEND;VALUE=DATE:20220911
DTSTAMP:20260421T235829
CREATED:20220819T175349Z
LAST-MODIFIED:20220819T180406Z
UID:6951-1662681600-1662854399@cubcrafters.com
SUMMARY:"The Hangout" - Spokane AOPA Fly-In
DESCRIPTION:Join us as we return to our roots\, providing a unique\, casual environment to hangout with like-minded pilots\, enjoy some entertainment\, food and camaraderie. \nThe spot to be is the 39 Lounge where guests can grab some food and beverage from a Food Truck\, engage in lawn games\, meet Influencers and AOPA Staff\, listen to some live music and watch some STOL demonstrations from the flight line. \nThis is a two-day event that you will not want to miss! Admission is $20 per person for both days\, those under 17 years old are free. The Hangouts are open to everyone that has a love and respect for all that is General Aviation! \nPurchase Tickets Here: https://www.aopa.org/community/2022/hangouts/spokane
URL:https://cubcrafters.com/c/event/the-hangout-spokane-aopa-fly-in/
LOCATION:Felts Field (KSFF) – Spokane\, WA\, 6105 E Rutter Ave\, Spokane\, WA\, 99212\, United States
ATTACH;FMTTYPE=image/jpeg:https://cubcrafters.com/c/wp-content/uploads/2022/08/spokane-fly-in.jpg
END:VEVENT
BEGIN:VEVENT
DTSTART;VALUE=DATE:20220914
DTEND;VALUE=DATE:20220919
DTSTAMP:20260421T235829
CREATED:20220829T223311Z
LAST-MODIFIED:20220829T223311Z
UID:6970-1663113600-1663545599@cubcrafters.com
SUMMARY:STIHL National Championship Air Races & Air Show
DESCRIPTION:
URL:https://cubcrafters.com/c/event/stihl-national-championship-air-races-air-show/
LOCATION:Reno Stead Airport (KRTS)\, Reno\, NV\, United States
ATTACH;FMTTYPE=image/jpeg:https://cubcrafters.com/c/wp-content/uploads/2022/08/reno-2022.jpg
END:VEVENT
END:VCALENDAR